BEGIN:VCALENDAR
VERSION:2.0
PRODID:icalendar-ruby
CALSCALE:GREGORIAN
METHOD:PUBLISH
BEGIN:VEVENT
DTSTAMP:20260423T122656Z
UID:427-2393982@stpeterduncan.ca
DTSTART;VALUE=DATE:20260423
DTEND;VALUE=DATE:20260425
CLASS:PUBLIC
CREATED:20260422T102010
DESCRIPTION:The Cherry Point Artists Show and Sale takes place on Friday an
 d Saturday\, April 24 and 25 from 10:00 AM to 5:00 PM in St. Peter's Hall.
LAST-MODIFIED:20260422T102010
LOCATION:St. Peter Quamichan Church Hall
SUMMARY:Cherry Point Artists Art Show & Sale
URL;VALUE=URI:https://www.stpeterduncan.ca/events/cherry-point-artists-art-
 show-sale/2026-04-23
ATTACH;FILENAME=Cherry Point Artists Show and Sale Apr 2026.png;FMTTYPE=ima
 ge/png:https://dq5pwpg1q8ru0.cloudfront.net/2026/04/22/17/20/09/b6a602e4-c
 7ff-4b7d-9246-4c39ddb8fc9e/Cherry%20Point%20Artists%20Show%20and%20Sale%20
 Apr%202026.png
END:VEVENT
END:VCALENDAR
