BEGIN:VCALENDAR
VERSION:2.0
PRODID:icalendar-ruby
CALSCALE:GREGORIAN
METHOD:PUBLISH
BEGIN:VEVENT
DTSTAMP:20260423T223539Z
UID:531-2404386@stpeterduncan.ca
DTSTART:20260426T210000Z
DTEND:20260426T230000Z
CLASS:PUBLIC
CREATED:20260423T131244
DESCRIPTION:
LAST-MODIFIED:20260423T131244
LOCATION:Meeting Room A
SUMMARY:Discernment Team
URL;VALUE=URI:https://www.stpeterduncan.ca/events/discernment-team--531/202
 6-04-26
END:VEVENT
END:VCALENDAR
