BEGIN:VCALENDAR
VERSION:2.0
PRODID:icalendar-ruby
CALSCALE:GREGORIAN
METHOD:PUBLISH
BEGIN:VEVENT
DTSTAMP:20260423T123536Z
UID:524-2385090@stpeterduncan.ca
DTSTART:20260426T200000Z
DTEND:20260426T220000Z
CLASS:PUBLIC
CREATED:20260421T093451
DESCRIPTION:Join the president of the Lutheran Theological Seminary in Sask
 atoon as he offers a talk and Q&amp\;A on his new book: "Leadership in a S
 hrinking Church."\nJoin us for this free workshop with concrete takeaways 
 on how we can think through being church in these changing times!
LAST-MODIFIED:20260421T093451
LOCATION:Upper Hall\, Sanctuary 
SUMMARY:Leadership in a Shrinking Church
URL;VALUE=URI:https://www.stpeterduncan.ca/events/leadership-in-a-shrinking
 -church/2026-04-26
ATTACH;FILENAME=IMG_3843.jpeg;FMTTYPE=image/jpeg:https://dq5pwpg1q8ru0.clou
 dfront.net/2026/04/21/00/04/31/e636ec7f-78ac-4bd3-8bb7-37f659622eaf/IMG_38
 43.jpeg
END:VEVENT
END:VCALENDAR
